BEGIN:VCALENDAR
VERSION:2.0
PRODID:icalendar-ruby
CALSCALE:GREGORIAN
METHOD:PUBLISH
BEGIN:VEVENT
DTSTAMP:20260420T072440Z
UID:152-237695@argylechurch.tithelysetup2.com
DTSTART:20260501T220000Z
DTEND:20260502T130000Z
CLASS:PUBLIC
CREATED:20260415T140513
DESCRIPTION:Get ready for an awesome Movie Night and Sleepover at the Frazi
 er’s House! We’ll have food\, fun\, a great movie\, and an overnight h
 angout with friends. Bring your sleeping clothes\, clothes for the next da
 y\, your pillow\, blanket\, and Bible for a night full of fun\, fellowship
 \, and great memories!\nPlease Register below so the Frazier's have a head
  count.\n\n\n\n
LAST-MODIFIED:20260415T140513
LOCATION:
SUMMARY:Movie Night/Sleepover at the Frazier's
URL;VALUE=URI:https://www.argylechurch.net/events/movie-night-sleepover-at-
 the-fraziers/2026-05-01
ATTACH;FILENAME=ChatGPT-Image-Apr-15-2026-01_38_26-PM.png;FMTTYPE=image/png
 :https://dq5pwpg1q8ru0.cloudfront.net/2026/04/15/18/04/08/9905df4a-12b5-4f
 cb-bb01-bb64630da4b5/ChatGPT-Image-Apr-15-2026-01_38_26-PM.png
END:VEVENT
END:VCALENDAR
