BEGIN:VCALENDAR
VERSION:2.0
PRODID:icalendar-ruby
CALSCALE:GREGORIAN
METHOD:PUBLISH
BEGIN:VEVENT
DTSTAMP:20260420T071627Z
UID:71-133387@argylechurch.tithelysetup2.com
DTSTART:20261114T150000Z
DTEND:20261114T163000Z
CLASS:PUBLIC
CREATED:20251223T221305
DESCRIPTION:Matthew 25:31 says "For I was hungry and you gave me something 
 to eat" \nCome drive through and grab your family a pantry bag and produc
 e on the 2nd and 4th Saturday of every month. We open at 10 am and go unti
 l 11:30 am (or whenever we are out of food. ) We would love to meet and pr
 ay with you. \nPlease feel free to email us at pantry@argylechurch.net if
  you have any questions or concerns we can help you with. 
LAST-MODIFIED:20251223T221305
LOCATION:Argyle Church Of Christ 
SUMMARY:Saturday Manna Pantry
URL;VALUE=URI:https://www.argylechurch.net/events/saturday-manna-pantry/202
 6-11-14
ATTACH;FILENAME=DRY-FOODS.png;FMTTYPE=image/png:https://dq5pwpg1q8ru0.cloud
 front.net/2024/09/05/22/16/05/8933a528-8337-457e-8870-9bc310939fb7/DRY-FOO
 DS.png
END:VEVENT
END:VCALENDAR
