BEGIN:VCALENDAR
VERSION:2.0
PRODID:icalendar-ruby
CALSCALE:GREGORIAN
METHOD:PUBLISH
BEGIN:VEVENT
DTSTAMP:20260420T013604Z
UID:9-241832@argylechurch.tithelysetup2.com
DTSTART:20260628T133000Z
DTEND:20260628T144500Z
CLASS:PUBLIC
CREATED:20260419T193613
DESCRIPTION:
LAST-MODIFIED:20260419T193613
LOCATION:
SUMMARY:Sunday Worship
URL;VALUE=URI:https://www.argylechurch.net/events/sunday-worship/2026-06-28
ATTACH;FILENAME=window.jpg;FMTTYPE=image/jpeg:https://dq5pwpg1q8ru0.cloudfr
 ont.net/2023/08/24/10/09/34/fd3203bc-14db-4adc-b2a8-ac865eecf6b6/window.jp
 g
END:VEVENT
END:VCALENDAR
